BEGIN:VCALENDAR
VERSION:2.0
PRODID:-//Hypnosis Virginia - ECPv6.15.17.1//NONSGML v1.0//EN
CALSCALE:GREGORIAN
METHOD:PUBLISH
X-WR-CALNAME:Hypnosis Virginia
X-ORIGINAL-URL:https://www.hypnosis-virginia.com
X-WR-CALDESC:Events for Hypnosis Virginia
REFRESH-INTERVAL;VALUE=DURATION:PT1H
X-Robots-Tag:noindex
X-PUBLISHED-TTL:PT1H
BEGIN:VTIMEZONE
TZID:UTC
BEGIN:STANDARD
TZOFFSETFROM:+0000
TZOFFSETTO:+0000
TZNAME:UTC
DTSTART:20180101T000000
END:STANDARD
END:VTIMEZONE
BEGIN:VEVENT
DTSTART;VALUE=DATE:20230218
DTEND;VALUE=DATE:20230501
DTSTAMP:20260420T113612
CREATED:20230205T211106Z
LAST-MODIFIED:20230308T183005Z
UID:14986-1676678400-1682899199@www.hypnosis-virginia.com
SUMMARY:NGH Hypnosis Training Class 2/18 - 4/30/23
DESCRIPTION:  \nNGH Hypnosis Training Class 2/18 – 4/30/23 \nSee NGH Hypnosis Training Class  for details and deposit information. \nClass is a virtual class held over Zoom or online.
URL:https://www.hypnosis-virginia.com/event/ngh-hypnosis-training-class-2-5-3-31-23/
LOCATION:Virtual\, United States
CATEGORIES:Hypnosis
ATTACH;FMTTYPE=image/png:https://www.hypnosis-virginia.com/wp-content/uploads/2023/02/NGH-Largest-png.png
ORGANIZER;CN="Helen Bramow":MAILTO:HealthCoach095@gmail.com
END:VEVENT
BEGIN:VEVENT
DTSTART;TZID=UTC:20221121T080000
DTEND;TZID=UTC:20221126T233000
DTSTAMP:20260420T113612
CREATED:20220827T205659Z
LAST-MODIFIED:20221102T223849Z
UID:14780-1669017600-1669505400@www.hypnosis-virginia.com
SUMMARY:New Moon Energetic Clearings - 11/21/22
DESCRIPTION:Energy Clearings \nNew Moon Energy Clearing\n\n\n\n\nNew Moon – Nov. 21 – Nov. 26\, 2022 Available\n(until midnight 11/25 for purchase)\n\n\nPeople\, places\, pets\, business\, events\, etc.\n\n\n$35.00 – 45 minutes\n\n\n\n \n\nNew Moon Energy Clearing – 45 min. \n$35.00 \nBuy now \n\n\n\n\n$50.00 – 75 minutes\n\n\n \n\nNew Moon Clearing 60 min. \n$50.00 \nBuy now \n\n\n\n\n  \nSee:   hypnosis-virginia.com/Dowsing-Energy-Clearing/ \nTo Register Send your email to:  HealthCoach095@gmail.com
URL:https://www.hypnosis-virginia.com/event/new-moon-energetic-clearings-8-27-22-9-2-22/
LOCATION:Virtual\, United States
CATEGORIES:Dowsing
ATTACH;FMTTYPE=image/jpeg:https://www.hypnosis-virginia.com/wp-content/uploads/2022/08/Night-Sky-031-scaled.jpg
ORGANIZER;CN="Helen Bramow":MAILTO:HealthCoach095@gmail.com
END:VEVENT
BEGIN:VEVENT
DTSTART;TZID=UTC:20220827T130000
DTEND;TZID=UTC:20220905T210000
DTSTAMP:20260420T113612
CREATED:20200423T013508Z
LAST-MODIFIED:20220830T220128Z
UID:10842-1661605200-1662411600@www.hypnosis-virginia.com
SUMMARY:Holy Fire® III Reiki Master/Adv. Reiki Class - 9/3 - 5/22 Hypnosis-Virginia - ZOOM!
DESCRIPTION:Holy Fire® III Reiki Master/Adv. Reiki Class – 9/3 – 9/5/22\n9 am to 5 pm – Live – Virtual Zoom Class $795\nStudents must attend all sessions to receive certification!\nPrerequisite – 6 months after Usui Reiki II and/or Holy Fire® Reiki II\, certification req. (please email it to HealthCoach095@gmail.com) . \nIncludes: \nMany Holy Fire® III moving meditations\, ignitions\, experiences and placements (Reiki I\, II\, and ART) done by Helen Bramow\, MA\, Board Certified Hypnotist\, MHt\, Holy Fire III® Reiki Master\, Holy Fire III® Karuna® Reiki Master. \nSpecific meditations\, incl. the River of Holy Love\, the moving meditation using the master symbol\, Holy Fire® III Reiki Master symbol – practice drawing it\, and more. How to perform a reiki session\, scanning\, working with chakras\, using a pendulum\, remote reiki and remote scanning techniques\, distance practice\, reiki peace crystal grid\, using crystal grid for distance sessions\, and much more. \nHow to run a Reiki business\, certificates\, advertising\, etc. Learn what you need to teach others\, certify them\, and run a Reiki business\, as well as working and teaching virtually. Small classes and basically follow the master book outline. \nIncludes: manual\, certificate\, listing as a Holy Fire III® Reiki Master on the reiki.org site after sending in your certificate. Known also as a certified ‘virtual’ reiki teacher\, with ability to teach all of Holy Fire III® Reiki classes and groups (i.e.\, no further reiki upgrades are req. at this time). \nDeposit due with Registration $400 and $395 is due 9/2/22\nRegistration at:  email HealthCoach095@gmail.com
URL:https://www.hypnosis-virginia.com/event/holy-fire-iii-reiki-master-adv-reiki-train-9-3-22-hypnosis-virginia/
LOCATION:Virtual\, United States
CATEGORIES:Reiki
ATTACH;FMTTYPE=image/jpeg:https://www.hypnosis-virginia.com/wp-content/uploads/2018/04/ChoKuRei-1.jpg
ORGANIZER;CN="Helen Bramow":MAILTO:HealthCoach095@gmail.com
END:VEVENT
BEGIN:VEVENT
DTSTART;TZID=UTC:20191223T063000
DTEND;TZID=UTC:20191223T200000
DTSTAMP:20260420T113612
CREATED:20190830T205439Z
LAST-MODIFIED:20190901T112045Z
UID:7161-1577082600-1577131200@www.hypnosis-virginia.com
SUMMARY:IET® Practice 12/23/19 6:30 - 8:00 pm Hypnosis Virginia - Leesburg\, VA
DESCRIPTION:IET® Practice Session – \n$15 for all Students/Practitioners and $25 for general public. \nAn introduction to IET®\, as well as practice for students/practitioners.  See IET Practice Group   for details \nRegistration at :  EventBrite Hypnosis Virginia
URL:https://www.hypnosis-virginia.com/event/iet-practice-12-23-19-630-800-pm-hypnosis-virginia-leesburg-va/
LOCATION:Hypnosis-Virginia\, United States
CATEGORIES:IET
ATTACH;FMTTYPE=image/jpeg:https://www.hypnosis-virginia.com/wp-content/uploads/2019/07/IETlogo-final.jpg.jpg
ORGANIZER;CN="Helen Bramow":MAILTO:HealthCoach095@gmail.com
END:VEVENT
BEGIN:VEVENT
DTSTART;TZID=UTC:20191210T183000
DTEND;TZID=UTC:20191210T200000
DTSTAMP:20260420T113612
CREATED:20190901T120016Z
LAST-MODIFIED:20190901T120016Z
UID:7207-1576002600-1576008000@www.hypnosis-virginia.com
SUMMARY:Usui Reiki / Holy Fire III Reiki Practice 12/10/19 6:30 - 8:00 pm Hypnosis Virginia - Leesburg\, VA
DESCRIPTION:Usui Reiki / Holy Fire III Reiki Practice Session – \n$15 for all Students/Practitioners and $25 for general public. \nAn introduction to Usui / Holy Fire III Reiki\, as well as practice for students/practitioners.  See Usui / Holy Fire III Reiki Practice Group   for details \nRegistration at :  EventBrite Hypnosis Virginia
URL:https://www.hypnosis-virginia.com/event/usui-reiki-holy-fire-iii-reiki-practice-12-10-19-630-800-pm-hypnosis-virginia-leesburg-va/
LOCATION:Hypnosis-Virginia\, United States
CATEGORIES:Reiki
ATTACH;FMTTYPE=image/jpeg:https://www.hypnosis-virginia.com/wp-content/uploads/2017/12/hands-1461555427fAd.jpg
ORGANIZER;CN="Helen Bramow":MAILTO:HealthCoach095@gmail.com
END:VEVENT
BEGIN:VEVENT
DTSTART;TZID=UTC:20191203T183000
DTEND;TZID=UTC:20191203T200000
DTSTAMP:20260420T113612
CREATED:20190901T114912Z
LAST-MODIFIED:20190901T134710Z
UID:7197-1575397800-1575403200@www.hypnosis-virginia.com
SUMMARY:SFQ Spring Forest QiGong Practice 12/3/19 6:30 - 8:00 pm Hypnosis Virginia - Leesburg\, VA
DESCRIPTION:Shaolin Complex \nSFQ Spring Forest QiGong Practice Session – \n$15 for all Students/Practitioners and $25 for general public. \nAn introduction to SFQ\, as well as practice for students/practitioners.  See SFQ Practice Group   for details \nRegistration at :  EventBrite Hypnosis Virginia
URL:https://www.hypnosis-virginia.com/event/sfq-spring-forest-qigong-practice-12-3-19-630-800-pm-hypnosis-virginia-leesburg-va/
LOCATION:Hypnosis-Virginia\, United States
CATEGORIES:Spring Forest QiGong
ATTACH;FMTTYPE=image/jpeg:https://www.hypnosis-virginia.com/wp-content/uploads/2019/08/shaolin-complex.jpg
ORGANIZER;CN="Helen Bramow":MAILTO:HealthCoach095@gmail.com
END:VEVENT
BEGIN:VEVENT
DTSTART;TZID=UTC:20191126T183000
DTEND;TZID=UTC:20191126T200000
DTSTAMP:20260420T113612
CREATED:20190901T111203Z
LAST-MODIFIED:20190901T112715Z
UID:7178-1574793000-1574798400@www.hypnosis-virginia.com
SUMMARY:IET® Practice 11/24/19 6:30 - 8:00 pm - Hypnosis Virginia - Leesburg\, VA
DESCRIPTION:IET® Practice Session – \n$15 for all Students/Practitioners and $25 for general public. \nAn introduction to IET®\, as well as practice for students/practitioners.  See IET Practice Group   for details \nRegistration at :  EventBrite Hypnosis Virginia
URL:https://www.hypnosis-virginia.com/event/iet-practice-11-24-19-630-800-pm-hypnosis-virginia-leesburg-va/
LOCATION:Hypnosis-Virginia\, United States
CATEGORIES:IET
ATTACH;FMTTYPE=image/jpeg:https://www.hypnosis-virginia.com/wp-content/uploads/2019/07/IETlogo-final.jpg.jpg
ORGANIZER;CN="Helen Bramow":MAILTO:HealthCoach095@gmail.com
END:VEVENT
BEGIN:VEVENT
DTSTART;TZID=UTC:20191119T183000
DTEND;TZID=UTC:20191119T200000
DTSTAMP:20260420T113612
CREATED:20190901T114721Z
LAST-MODIFIED:20190901T134832Z
UID:7195-1574188200-1574193600@www.hypnosis-virginia.com
SUMMARY:SFQ Spring Forest QiGong Practice 11/19/19 6:30 - 8:00 pm Hypnosis Virginia - Leesburg\, VA
DESCRIPTION:Shaolin Complex \nSFQ Spring Forest QiGong Practice Session – \n$15 for all Students/Practitioners and $25 for general public. \nAn introduction to SFQ\, as well as practice for students/practitioners.  See SFQ Practice Group   for details \nRegistration at :  EventBrite Hypnosis Virginia
URL:https://www.hypnosis-virginia.com/event/sfq-spring-forest-qigong-practice-11-19-19-630-800-pm-hypnosis-virginia-leesburg-va/
LOCATION:Hypnosis-Virginia\, United States
CATEGORIES:Spring Forest QiGong
ATTACH;FMTTYPE=image/jpeg:https://www.hypnosis-virginia.com/wp-content/uploads/2019/08/shaolin-complex.jpg
ORGANIZER;CN="Helen Bramow":MAILTO:HealthCoach095@gmail.com
END:VEVENT
BEGIN:VEVENT
DTSTART;TZID=UTC:20191112T183000
DTEND;TZID=UTC:20191112T200000
DTSTAMP:20260420T113612
CREATED:20190901T115827Z
LAST-MODIFIED:20190901T115827Z
UID:7205-1573583400-1573588800@www.hypnosis-virginia.com
SUMMARY:Usui Reiki / Holy Fire III Reiki Practice 11/12/19 6:30 - 8:00 pm Hypnosis Virginia - Leesburg\, VA
DESCRIPTION:Usui Reiki / Holy Fire III Reiki Practice Session – \n$15 for all Students/Practitioners and $25 for general public. \nAn introduction to Usui / Holy Fire III Reiki\, as well as practice for students/practitioners.  See Usui / Holy Fire III Reiki Practice Group   for details \nRegistration at :  EventBrite Hypnosis Virginia
URL:https://www.hypnosis-virginia.com/event/usui-reiki-holy-fire-iii-reiki-practice-11-12-19-630-800-pm-hypnosis-virginia-leesburg-va/
LOCATION:Hypnosis-Virginia\, United States
CATEGORIES:Reiki
ATTACH;FMTTYPE=image/jpeg:https://www.hypnosis-virginia.com/wp-content/uploads/2017/12/hands-1461555427fAd.jpg
ORGANIZER;CN="Helen Bramow":MAILTO:HealthCoach095@gmail.com
END:VEVENT
BEGIN:VEVENT
DTSTART;TZID=UTC:20191105T183000
DTEND;TZID=UTC:20200109T200000
DTSTAMP:20260420T113612
CREATED:20190901T114538Z
LAST-MODIFIED:20190901T134949Z
UID:7193-1572978600-1578600000@www.hypnosis-virginia.com
SUMMARY:SFQ Spring Forest QiGong Practice 11/5/19 6:30 - 8:00 pm - Hypnosis Virginia - Leesburg\, VA
DESCRIPTION:Shaolin Complex \nSFQ Spring Forest QiGong Practice Session – \n$15 for all Students/Practitioners and $25 for general public. \nAn introduction to SFQ\, as well as practice for students/practitioners.  See SFQ Practice Group   for details \nRegistration at :  EventBrite Hypnosis Virginia
URL:https://www.hypnosis-virginia.com/event/sfq-spring-forest-qigong-practice-11-5-19-630-800-pm-hypnosis-virginia-leesburg-va/
LOCATION:Hypnosis-Virginia\, United States
CATEGORIES:Spring Forest QiGong
ATTACH;FMTTYPE=image/jpeg:https://www.hypnosis-virginia.com/wp-content/uploads/2019/08/shaolin-complex.jpg
ORGANIZER;CN="Helen Bramow":MAILTO:HealthCoach095@gmail.com
END:VEVENT
BEGIN:VEVENT
DTSTART;TZID=UTC:20191022T183000
DTEND;TZID=UTC:20191022T200000
DTSTAMP:20260420T113612
CREATED:20190901T111416Z
LAST-MODIFIED:20190901T113513Z
UID:7181-1571769000-1571774400@www.hypnosis-virginia.com
SUMMARY:IET® Practice 10/22/19 - 6:30 - 8:00 pm - Hypnosis Virginia - Leesburg\, VA
DESCRIPTION:IET® Practice Session – \n$15 for all Students/Practitioners and $25 for general public. \nAn introduction to IET®\, as well as practice for students/practitioners.  See IET Practice Group   for details \nRegistration at :  EventBrite Hypnosis Virginia
URL:https://www.hypnosis-virginia.com/event/iet-practice-10-22-19-630-800-pm-hypnosis-virginia-leesburg-va/
LOCATION:Hypnosis-Virginia\, United States
CATEGORIES:IET
ATTACH;FMTTYPE=image/jpeg:https://www.hypnosis-virginia.com/wp-content/uploads/2019/07/IETlogo-final.jpg.jpg
ORGANIZER;CN="Helen Bramow":MAILTO:HealthCoach095@gmail.com
END:VEVENT
BEGIN:VEVENT
DTSTART;TZID=UTC:20191015T183000
DTEND;TZID=UTC:20191015T200000
DTSTAMP:20260420T113612
CREATED:20190901T114247Z
LAST-MODIFIED:20190901T135046Z
UID:7191-1571164200-1571169600@www.hypnosis-virginia.com
SUMMARY:SFQ Spring Forest QiGong Practice 10/15/19 6:30 - 8:00 pm Hypnosis Virginia - Leesburg\, VA
DESCRIPTION:Shaolin Complex \nSFQ Spring Forest QiGong Practice Session – \n$15 for all Students/Practitioners and $25 for general public. \nAn introduction to SFQ\, as well as practice for students/practitioners.  See SFQ Practice Group   for details \nRegistration at :  EventBrite Hypnosis Virginia
URL:https://www.hypnosis-virginia.com/event/sfq-spring-forest-qigong-practice-10-15-19-630-800-pm-hypnosis-virginia-leesburg-va/
LOCATION:Hypnosis-Virginia\, United States
CATEGORIES:Spring Forest QiGong
ATTACH;FMTTYPE=image/jpeg:https://www.hypnosis-virginia.com/wp-content/uploads/2019/08/shaolin-complex.jpg
ORGANIZER;CN="Helen Bramow":MAILTO:HealthCoach095@gmail.com
END:VEVENT
BEGIN:VEVENT
DTSTART;TZID=UTC:20191008T183000
DTEND;TZID=UTC:20191008T200000
DTSTAMP:20260420T113612
CREATED:20190901T115636Z
LAST-MODIFIED:20190901T115636Z
UID:7203-1570559400-1570564800@www.hypnosis-virginia.com
SUMMARY:Usui Reiki / Holy Fire III Reiki Practice 10/8/19 6:30 - 8:00 pm Hypnosis Virginia - Leesburg\, VA
DESCRIPTION:Usui Reiki / Holy Fire III Reiki Practice Session – \n$15 for all Students/Practitioners and $25 for general public. \nAn introduction to Usui / Holy Fire III Reiki\, as well as practice for students/practitioners.  See Usui / Holy Fire III Reiki Practice Group   for details \nRegistration at :  EventBrite Hypnosis Virginia
URL:https://www.hypnosis-virginia.com/event/usui-reiki-holy-fire-iii-reiki-practice-10-8-19-630-800-pm-hypnosis-virginia-leesburg-va/
LOCATION:Hypnosis-Virginia\, United States
CATEGORIES:Reiki
ATTACH;FMTTYPE=image/jpeg:https://www.hypnosis-virginia.com/wp-content/uploads/2017/12/hands-1461555427fAd.jpg
ORGANIZER;CN="Helen Bramow":MAILTO:HealthCoach095@gmail.com
END:VEVENT
BEGIN:VEVENT
DTSTART;TZID=UTC:20191001T183000
DTEND;TZID=UTC:20191001T200000
DTSTAMP:20260420T113612
CREATED:20190901T114022Z
LAST-MODIFIED:20190901T135338Z
UID:7189-1569954600-1569960000@www.hypnosis-virginia.com
SUMMARY:SFQ Spring Forest QiGong Practice 10/1/19 6:30 - 8:00 pm - Hypnosis Virginia - Leesburg\, VA
DESCRIPTION:Shaolin Complex \nSFQ Spring Forest QiGong Practice Session – \n$15 for all Students/Practitioners and $25 for general public. \nAn introduction to SFQ\, as well as practice for students/practitioners.  See SFQ Practice Group   for details \nRegistration at :  EventBrite Hypnosis Virginia
URL:https://www.hypnosis-virginia.com/event/sfq-spring-forest-qigong-practice-10-1-19-630-800-pm-hypnosis-virginia-leesburg-va/
LOCATION:Hypnosis-Virginia\, United States
CATEGORIES:Spring Forest QiGong
ATTACH;FMTTYPE=image/jpeg:https://www.hypnosis-virginia.com/wp-content/uploads/2019/08/shaolin-complex.jpg
ORGANIZER;CN="Helen Bramow":MAILTO:HealthCoach095@gmail.com
END:VEVENT
BEGIN:VEVENT
DTSTART;TZID=UTC:20190924T183000
DTEND;TZID=UTC:20190924T200000
DTSTAMP:20260420T113612
CREATED:20190901T111556Z
LAST-MODIFIED:20190901T112933Z
UID:7183-1569349800-1569355200@www.hypnosis-virginia.com
SUMMARY:IET® Practice 9/24/19 - 6:30 - 8:00 pm - Hypnosis Virginia - Leesburg\, VA
DESCRIPTION:IET® Practice Session – \n$15 for all Students/Practitioners and $25 for general public. \nAn introduction to IET®\, as well as practice for students/practitioners.  See IET Practice Group   for details \nRegistration at :  EventBrite Hypnosis Virginia
URL:https://www.hypnosis-virginia.com/event/iet-practice-9-24-19-630-800-pm-hypnosis-virginia-leesburg-va/
LOCATION:Hypnosis-Virginia\, United States
CATEGORIES:IET
ATTACH;FMTTYPE=image/jpeg:https://www.hypnosis-virginia.com/wp-content/uploads/2019/07/IETlogo-final.jpg.jpg
ORGANIZER;CN="Helen Bramow":MAILTO:HealthCoach095@gmail.com
END:VEVENT
BEGIN:VEVENT
DTSTART;TZID=UTC:20190917T183000
DTEND;TZID=UTC:20190917T200000
DTSTAMP:20260420T113612
CREATED:20190901T113800Z
LAST-MODIFIED:20190901T135241Z
UID:7187-1568745000-1568750400@www.hypnosis-virginia.com
SUMMARY:SFQ Spring Forest QiGong Practice - 9/17/19 6:30 - 8:00 pm - Hypnosis\, Virginia - Leesburg\, VA
DESCRIPTION:Shaolin Complex \nSFQ Spring Forest QiGong Practice Session – \n$15 for all Students/Practitioners and $25 for general public. \nAn introduction to SFQ\, as well as practice for students/practitioners.  See SFQ Practice Group   for details \nRegistration at :  EventBrite Hypnosis Virginia
URL:https://www.hypnosis-virginia.com/event/sfq-spring-forest-qigong-practice-9-17-19-630-800-pm-hypnosis-virginia-leesburg-va/
LOCATION:Hypnosis-Virginia\, United States
CATEGORIES:Spring Forest QiGong
ATTACH;FMTTYPE=image/jpeg:https://www.hypnosis-virginia.com/wp-content/uploads/2019/08/shaolin-complex.jpg
ORGANIZER;CN="Helen Bramow":MAILTO:HealthCoach095@gmail.com
END:VEVENT
BEGIN:VEVENT
DTSTART;TZID=UTC:20190910T183000
DTEND;TZID=UTC:20190910T200000
DTSTAMP:20260420T113612
CREATED:20190901T115420Z
LAST-MODIFIED:20190901T115420Z
UID:7201-1568140200-1568145600@www.hypnosis-virginia.com
SUMMARY:Usui Reiki / Holy Fire III Reiki Practice 9/10/19 6:30 - 8:00 pm Hypnosis Virginia - Leesburg\, VA
DESCRIPTION:Usui Reiki / Holy Fire III Reiki Practice Session – \n$15 for all Students/Practitioners and $25 for general public. \nAn introduction to Usui / Holy Fire III Reiki\, as well as practice for students/practitioners.  See Usui / Holy Fire III Reiki Practice Group   for details \nRegistration at :  EventBrite Hypnosis Virginia
URL:https://www.hypnosis-virginia.com/event/usui-reiki-holy-fire-iii-reiki-practice-9-10-19-630-800-pm-hypnosis-virginia-leesburg-va/
LOCATION:Hypnosis-Virginia\, United States
CATEGORIES:Reiki
ATTACH;FMTTYPE=image/jpeg:https://www.hypnosis-virginia.com/wp-content/uploads/2017/12/hands-1461555427fAd.jpg
ORGANIZER;CN="Helen Bramow":MAILTO:HealthCoach095@gmail.com
END:VEVENT
BEGIN:VEVENT
DTSTART;TZID=UTC:20190903T183000
DTEND;TZID=UTC:20190903T200000
DTSTAMP:20260420T113612
CREATED:20190901T111900Z
LAST-MODIFIED:20190901T135146Z
UID:7185-1567535400-1567540800@www.hypnosis-virginia.com
SUMMARY:SFQ Spring Forest QiGong Practice - 9/3/19 - 6:30 - 8:00 pm - Hypnosis Virginia - Leesburg\, VA
DESCRIPTION:Shaolin Complex \nSFQ Spring Forest QiGong Practice Session – \n$15 for all Students/Practitioners and $25 for general public. \nAn introduction to SFQ\, as well as practice for students/practitioners.  See SFQ Practice Group   for details \nRegistration at :  EventBrite Hypnosis Virginia
URL:https://www.hypnosis-virginia.com/event/sfq-spring-forest-qigong-practice-9-3-19-630-800-pm-hypnosis-virginia-leesburg-va/
LOCATION:Hypnosis-Virginia\, United States
CATEGORIES:Spring Forest QiGong
ATTACH;FMTTYPE=image/jpeg:https://www.hypnosis-virginia.com/wp-content/uploads/2019/08/shaolin-complex.jpg
ORGANIZER;CN="Helen Bramow":MAILTO:HealthCoach095@gmail.com
END:VEVENT
END:VCALENDAR